Package: treeio Version: 1.32.0 Command: /home/biocbuild/R/R/bin/R CMD build --keep-empty-dirs --no-resave-data treeio StartedAt: 2025-09-26 06:47:50 -0000 (Fri, 26 Sep 2025) EndedAt: 2025-09-26 06:48:03 -0000 (Fri, 26 Sep 2025) EllapsedTime: 13.0 seconds RetCode: 0 Status: OK PackageFile: treeio_1.32.0.tar.gz PackageFileSize: 679.6 KiB