Package: treeio Version: 1.32.0 Command: /Library/Frameworks/R.framework/Resources/bin/R CMD build --keep-empty-dirs --no-resave-data treeio StartedAt: 2025-09-26 11:08:16 -0400 (Fri, 26 Sep 2025) EndedAt: 2025-09-26 11:08:29 -0400 (Fri, 26 Sep 2025) EllapsedTime: 12.5 seconds RetCode: 0 Status: OK PackageFile: treeio_1.32.0.tar.gz PackageFileSize: 678.8 KiB