Package: treeclimbR Version: 1.6.0 Command: /home/biocbuild/R/R/bin/R CMD check --install=check:treeclimbR.install-out.txt --library=/home/biocbuild/R/R/site-library --no-vignettes --timings treeclimbR_1.6.0.tar.gz StartedAt: 2025-11-14 16:01:06 -0000 (Fri, 14 Nov 2025) EndedAt: 2025-11-14 16:09:51 -0000 (Fri, 14 Nov 2025) EllapsedTime: 524.6 seconds RetCode: 0 Status: OK CheckDir: treeclimbR.Rcheck Warnings: 0