Package: treeclimbR Version: 1.6.0 Command: /home/biocbuild/R/R/bin/R CMD build --keep-empty-dirs --no-resave-data treeclimbR StartedAt: 2025-11-11 05:58:13 -0000 (Tue, 11 Nov 2025) EndedAt: 2025-11-11 05:59:46 -0000 (Tue, 11 Nov 2025) EllapsedTime: 93.1 seconds RetCode: 0 Status: OK PackageFile: treeclimbR_1.6.0.tar.gz PackageFileSize: 606.2 KiB