Package: treeclimbR Version: 1.4.0 Command: /home/biocbuild/R/R/bin/R CMD check --install=check:treeclimbR.install-out.txt --library=/home/biocbuild/R/R/site-library --no-vignettes --timings treeclimbR_1.4.0.tar.gz StartedAt: 2025-10-10 15:01:24 -0000 (Fri, 10 Oct 2025) EndedAt: 2025-10-10 15:10:03 -0000 (Fri, 10 Oct 2025) EllapsedTime: 518.8 seconds RetCode: 0 Status: OK CheckDir: treeclimbR.Rcheck Warnings: 0