Package: traviz Version: 1.16.0 Command: /home/biocbuild/bbs-3.22-bioc/R/bin/R CMD INSTALL traviz StartedAt: 2025-11-11 15:29:24 -0500 (Tue, 11 Nov 2025) EndedAt: 2025-11-11 15:29:25 -0500 (Tue, 11 Nov 2025) EllapsedTime: 1.1 seconds RetCode: 1 Status: ERROR