Package: traviz Version: 1.16.0 Command: /Library/Frameworks/R.framework/Resources/bin/R CMD INSTALL traviz StartedAt: 2025-11-10 15:15:44 -0500 (Mon, 10 Nov 2025) EndedAt: 2025-11-10 15:15:45 -0500 (Mon, 10 Nov 2025) EllapsedTime: 1.0 seconds RetCode: 1 Status: ERROR