Package: traseR Version: 1.40.0 Command: /home/biocbuild/bbs-3.22-bioc/R/bin/R CMD INSTALL traseR StartedAt: 2025-11-11 15:38:55 -0500 (Tue, 11 Nov 2025) EndedAt: 2025-11-11 15:39:26 -0500 (Tue, 11 Nov 2025) EllapsedTime: 30.9 seconds RetCode: 0 Status: OK