Package: traseR Version: 1.40.0 Command: /Library/Frameworks/R.framework/Resources/bin/R CMD INSTALL traseR StartedAt: 2025-11-10 15:19:15 -0500 (Mon, 10 Nov 2025) EndedAt: 2025-11-10 15:19:28 -0500 (Mon, 10 Nov 2025) EllapsedTime: 12.6 seconds RetCode: 0 Status: OK