Package: traseR Version: 1.40.0 Command: /Library/Frameworks/R.framework/Resources/bin/R CMD build --keep-empty-dirs --no-resave-data traseR StartedAt: 2025-11-10 18:03:06 -0500 (Mon, 10 Nov 2025) EndedAt: 2025-11-10 18:03:29 -0500 (Mon, 10 Nov 2025) EllapsedTime: 22.3 seconds RetCode: 0 Status: OK PackageFile: traseR_1.40.0.tar.gz PackageFileSize: 6.221 MiB