Package: transomics2cytoscape Version: 1.20.0 Command: /home/biocbuild/bbs-3.22-bioc/R/bin/R CMD check --install=check:transomics2cytoscape.install-out.txt --library=/home/biocbuild/bbs-3.22-bioc/R/site-library --timings transomics2cytoscape_1.20.0.tar.gz StartedAt: 2025-11-21 05:36:05 -0500 (Fri, 21 Nov 2025) EndedAt: 2025-11-21 05:36:35 -0500 (Fri, 21 Nov 2025) EllapsedTime: 30.0 seconds RetCode: 0 Status: OK CheckDir: transomics2cytoscape.Rcheck Warnings: 0