Package: transomics2cytoscape Version: 1.20.0 Command: /home/biocbuild/bbs-3.22-bioc/R/bin/R CMD build --keep-empty-dirs --no-resave-data --md5 transomics2cytoscape StartedAt: 2025-11-11 20:44:21 -0500 (Tue, 11 Nov 2025) EndedAt: 2025-11-11 20:44:29 -0500 (Tue, 11 Nov 2025) EllapsedTime: 8.0 seconds RetCode: 0 Status: OK PackageFile: transomics2cytoscape_1.20.0.tar.gz PackageFileSize: 11.82 MiB