Package: transomics2cytoscape Version: 1.18.0 Command: /home/biocbuild/R/R/bin/R CMD INSTALL transomics2cytoscape StartedAt: 2025-10-13 20:38:51 -0000 (Mon, 13 Oct 2025) EndedAt: 2025-10-13 20:38:55 -0000 (Mon, 13 Oct 2025) EllapsedTime: 4.1 seconds RetCode: 0 Status: OK