Package: transomics2cytoscape Version: 1.20.0 Command: /Library/Frameworks/R.framework/Resources/bin/R CMD INSTALL transomics2cytoscape StartedAt: 2025-11-06 15:09:00 -0500 (Thu, 06 Nov 2025) EndedAt: 2025-11-06 15:09:01 -0500 (Thu, 06 Nov 2025) EllapsedTime: 1.5 seconds RetCode: 0 Status: OK