Package: transomics2cytoscape Version: 1.20.0 Command: /Library/Frameworks/R.framework/Resources/bin/R CMD build --keep-empty-dirs --no-resave-data transomics2cytoscape StartedAt: 2025-11-06 18:01:45 -0500 (Thu, 06 Nov 2025) EndedAt: 2025-11-06 18:01:50 -0500 (Thu, 06 Nov 2025) EllapsedTime: 5.1 seconds RetCode: 0 Status: OK PackageFile: transomics2cytoscape_1.20.0.tar.gz PackageFileSize: 11.82 MiB