Package: transomics2cytoscape Version: 1.20.0 Command: rm -rf transomics2cytoscape.buildbin-libdir && mkdir transomics2cytoscape.buildbin-libdir && /Users/biocbuild/BBS/utils/build-universal.sh transomics2cytoscape_1.20.0.tar.gz /Library/Frameworks/R.framework/Resources/bin/R transomics2cytoscape.buildbin-libdir StartedAt: 2025-11-06 23:25:02 -0500 (Thu, 06 Nov 2025) EndedAt: 2025-11-06 23:25:05 -0500 (Thu, 06 Nov 2025) EllapsedTime: 3.0 seconds RetCode: 0 Status: OK PackageFile: transomics2cytoscape_1.20.0.tgz PackageFileSize: 11.85 MiB