Package: transmogR Version: 1.6.0 Command: /home/biocbuild/bbs-3.22-bioc/R/bin/R CMD INSTALL transmogR StartedAt: 2025-11-11 15:44:55 -0500 (Tue, 11 Nov 2025) EndedAt: 2025-11-11 15:45:35 -0500 (Tue, 11 Nov 2025) EllapsedTime: 40.2 seconds RetCode: 0 Status: OK