Package: transmogR Version: 1.6.0 Command: /home/biocbuild/bbs-3.22-bioc/R/bin/R CMD build --keep-empty-dirs --no-resave-data --md5 transmogR StartedAt: 2025-11-13 20:42:23 -0500 (Thu, 13 Nov 2025) EndedAt: 2025-11-13 20:43:40 -0500 (Thu, 13 Nov 2025) EllapsedTime: 77.1 seconds RetCode: 0 Status: OK PackageFile: transmogR_1.6.0.tar.gz PackageFileSize: 584.8 KiB