Package: transmogR Version: 1.4.2 Command: /home/biocbuild/R/R/bin/R CMD build --keep-empty-dirs --no-resave-data transmogR StartedAt: 2025-10-14 05:28:59 -0000 (Tue, 14 Oct 2025) EndedAt: 2025-10-14 05:30:23 -0000 (Tue, 14 Oct 2025) EllapsedTime: 84.1 seconds RetCode: 1 Status: ERROR PackageFile: None PackageFileSize: NA