Package: transmogR Version: 1.6.0 Command: /Library/Frameworks/R.framework/Resources/bin/R CMD INSTALL transmogR StartedAt: 2025-11-02 15:20:47 -0500 (Sun, 02 Nov 2025) EndedAt: 2025-11-02 15:21:03 -0500 (Sun, 02 Nov 2025) EllapsedTime: 16.9 seconds RetCode: 0 Status: OK