Package: transmogR Version: 1.6.0 Command: /Library/Frameworks/R.framework/Resources/bin/R CMD build --keep-empty-dirs --no-resave-data transmogR StartedAt: 2025-11-02 18:01:34 -0500 (Sun, 02 Nov 2025) EndedAt: 2025-11-02 18:02:09 -0500 (Sun, 02 Nov 2025) EllapsedTime: 35.4 seconds RetCode: 0 Status: OK PackageFile: transmogR_1.6.0.tar.gz PackageFileSize: 590.1 KiB