Package: transmogR Version: 1.6.0 Command: rm -rf transmogR.buildbin-libdir && mkdir transmogR.buildbin-libdir && /Users/biocbuild/BBS/utils/build-universal.sh transmogR_1.6.0.tar.gz /Library/Frameworks/R.framework/Resources/bin/R transmogR.buildbin-libdir StartedAt: 2025-11-02 23:24:55 -0500 (Sun, 02 Nov 2025) EndedAt: 2025-11-02 23:25:15 -0500 (Sun, 02 Nov 2025) EllapsedTime: 19.4 seconds RetCode: 0 Status: OK PackageFile: transmogR_1.6.0.tgz PackageFileSize: 664.6 KiB