Package: transite Version: 1.28.0 Command: /home/biocbuild/bbs-3.22-bioc/R/bin/R CMD INSTALL transite StartedAt: 2025-11-13 15:32:34 -0500 (Thu, 13 Nov 2025) EndedAt: 2025-11-13 15:32:56 -0500 (Thu, 13 Nov 2025) EllapsedTime: 22.2 seconds RetCode: 0 Status: OK