Package: transite Version: 1.28.0 Command: /Library/Frameworks/R.framework/Resources/bin/R CMD INSTALL transite StartedAt: 2025-11-10 15:16:16 -0500 (Mon, 10 Nov 2025) EndedAt: 2025-11-10 15:16:24 -0500 (Mon, 10 Nov 2025) EllapsedTime: 8.6 seconds RetCode: 0 Status: OK