Package: transite Version: 1.28.0 Command: /Library/Frameworks/R.framework/Resources/bin/R CMD build --keep-empty-dirs --no-resave-data transite StartedAt: 2025-11-10 18:02:37 -0500 (Mon, 10 Nov 2025) EndedAt: 2025-11-10 18:02:52 -0500 (Mon, 10 Nov 2025) EllapsedTime: 15.2 seconds RetCode: 0 Status: OK PackageFile: transite_1.28.0.tar.gz PackageFileSize: 639.4 KiB