Package: transformGamPoi Version: 1.16.0 Command: /home/biocbuild/R/R/bin/R CMD INSTALL transformGamPoi StartedAt: 2025-11-13 21:45:51 -0000 (Thu, 13 Nov 2025) EndedAt: 2025-11-13 21:46:07 -0000 (Thu, 13 Nov 2025) EllapsedTime: 15.3 seconds RetCode: 0 Status: OK