Package: transformGamPoi Version: 1.16.0 Command: /home/biocbuild/R/R/bin/R CMD build --keep-empty-dirs --no-resave-data transformGamPoi StartedAt: 2025-11-14 06:04:56 -0000 (Fri, 14 Nov 2025) EndedAt: 2025-11-14 06:05:54 -0000 (Fri, 14 Nov 2025) EllapsedTime: 58.1 seconds RetCode: 0 Status: OK PackageFile: transformGamPoi_1.16.0.tar.gz PackageFileSize: 541.6 KiB