Package: transformGamPoi Version: 1.16.0 Command: /home/biocbuild/bbs-3.22-bioc/R/bin/R CMD INSTALL transformGamPoi StartedAt: 2025-11-11 15:40:43 -0500 (Tue, 11 Nov 2025) EndedAt: 2025-11-11 15:40:53 -0500 (Tue, 11 Nov 2025) EllapsedTime: 10.4 seconds RetCode: 0 Status: OK