Package: transformGamPoi Version: 1.16.0 Command: /home/biocbuild/bbs-3.22-bioc/R/bin/R CMD check --install=check:transformGamPoi.install-out.txt --library=/home/biocbuild/bbs-3.22-bioc/R/site-library --timings transformGamPoi_1.16.0.tar.gz StartedAt: 2025-11-12 05:06:24 -0500 (Wed, 12 Nov 2025) EndedAt: 2025-11-12 05:08:59 -0500 (Wed, 12 Nov 2025) EllapsedTime: 155.2 seconds RetCode: 0 Status: OK CheckDir: transformGamPoi.Rcheck Warnings: 0