Package: transformGamPoi Version: 1.14.0 Command: /home/biocbuild/bbs-3.21-bioc/R/bin/R CMD INSTALL transformGamPoi StartedAt: 2025-10-08 15:36:17 -0400 (Wed, 08 Oct 2025) EndedAt: 2025-10-08 15:36:29 -0400 (Wed, 08 Oct 2025) EllapsedTime: 11.5 seconds RetCode: 0 Status: OK