Package: transformGamPoi Version: 1.14.0 Command: /home/biocbuild/bbs-3.21-bioc/R/bin/R CMD build --keep-empty-dirs --no-resave-data transformGamPoi StartedAt: 2025-10-08 20:20:36 -0400 (Wed, 08 Oct 2025) EndedAt: 2025-10-08 20:21:19 -0400 (Wed, 08 Oct 2025) EllapsedTime: 43.1 seconds RetCode: 0 Status: OK PackageFile: transformGamPoi_1.14.0.tar.gz PackageFileSize: 786.4 KiB