Package: transformGamPoi Version: 1.14.0 Command: /Library/Frameworks/R.framework/Resources/bin/R CMD build --keep-empty-dirs --no-resave-data transformGamPoi StartedAt: 2025-10-07 11:47:11 -0400 (Tue, 07 Oct 2025) EndedAt: 2025-10-07 11:48:14 -0400 (Tue, 07 Oct 2025) EllapsedTime: 63.5 seconds RetCode: 0 Status: OK PackageFile: transformGamPoi_1.14.0.tar.gz PackageFileSize: 643.9 KiB