Package: transformGamPoi Version: 1.14.0 Command: rm -rf transformGamPoi.buildbin-libdir && mkdir transformGamPoi.buildbin-libdir && /Users/biocbuild/BBS/utils/build-universal.sh transformGamPoi_1.14.0.tar.gz /Library/Frameworks/R.framework/Resources/bin/R transformGamPoi.buildbin-libdir StartedAt: 2025-10-08 23:28:29 -0400 (Wed, 08 Oct 2025) EndedAt: 2025-10-08 23:28:46 -0400 (Wed, 08 Oct 2025) EllapsedTime: 17.0 seconds RetCode: 0 Status: OK PackageFile: transformGamPoi_1.14.0.tgz PackageFileSize: 704.2 KiB