Package: transcriptogramer Version: 1.32.0 Command: /home/biocbuild/R/R/bin/R CMD INSTALL transcriptogramer StartedAt: 2025-11-10 21:56:12 -0000 (Mon, 10 Nov 2025) EndedAt: 2025-11-10 21:56:49 -0000 (Mon, 10 Nov 2025) EllapsedTime: 36.4 seconds RetCode: 0 Status: OK