Package: transcriptogramer Version: 1.32.0 Command: /home/biocbuild/bbs-3.22-bioc/R/bin/R CMD INSTALL transcriptogramer StartedAt: 2025-11-11 15:44:03 -0500 (Tue, 11 Nov 2025) EndedAt: 2025-11-11 15:44:29 -0500 (Tue, 11 Nov 2025) EllapsedTime: 25.7 seconds RetCode: 0 Status: OK