Package: transcriptogramer Version: 1.30.0 Command: /home/biocbuild/bbs-3.21-bioc/R/bin/R CMD INSTALL transcriptogramer StartedAt: 2025-09-28 15:54:05 -0400 (Sun, 28 Sep 2025) EndedAt: 2025-09-28 15:54:32 -0400 (Sun, 28 Sep 2025) EllapsedTime: 26.7 seconds RetCode: 0 Status: OK