Package: transcriptogramer Version: 1.30.0 Command: /Library/Frameworks/R.framework/Resources/bin/R CMD build --keep-empty-dirs --no-resave-data transcriptogramer StartedAt: 2025-10-02 23:20:42 -0400 (Thu, 02 Oct 2025) EndedAt: 2025-10-02 23:46:24 -0400 (Thu, 02 Oct 2025) EllapsedTime: 1542.4 seconds RetCode: 0 Status: OK PackageFile: transcriptogramer_1.30.0.tar.gz PackageFileSize: 3.63 MiB