Package: transcriptR Version: 1.38.0 Command: /home/biocbuild/R/R/bin/R CMD INSTALL transcriptR StartedAt: 2025-11-10 22:04:56 -0000 (Mon, 10 Nov 2025) EndedAt: 2025-11-10 22:06:01 -0000 (Mon, 10 Nov 2025) EllapsedTime: 65.7 seconds RetCode: 0 Status: OK