Package: transcriptR Version: 1.38.0 Command: /home/biocbuild/bbs-3.22-bioc/R/bin/R CMD check --install=check:transcriptR.install-out.txt --library=/home/biocbuild/bbs-3.22-bioc/R/site-library --timings transcriptR_1.38.0.tar.gz StartedAt: 2025-11-12 05:06:10 -0500 (Wed, 12 Nov 2025) EndedAt: 2025-11-12 05:13:58 -0500 (Wed, 12 Nov 2025) EllapsedTime: 468.4 seconds RetCode: 1 Status: ERROR CheckDir: transcriptR.Rcheck Warnings: NA