Package: transcriptR Version: 1.38.0 Command: /home/biocbuild/bbs-3.22-bioc/R/bin/R CMD build --keep-empty-dirs --no-resave-data --md5 transcriptR StartedAt: 2025-11-11 20:43:37 -0500 (Tue, 11 Nov 2025) EndedAt: 2025-11-11 20:45:00 -0500 (Tue, 11 Nov 2025) EllapsedTime: 83.1 seconds RetCode: 0 Status: OK PackageFile: transcriptR_1.38.0.tar.gz PackageFileSize: 3.562 MiB