Package: transcriptR Version: 1.36.0 Command: /Library/Frameworks/R.framework/Resources/bin/R CMD INSTALL transcriptR StartedAt: 2025-09-29 16:42:16 -0400 (Mon, 29 Sep 2025) EndedAt: 2025-09-29 16:44:01 -0400 (Mon, 29 Sep 2025) EllapsedTime: 105.0 seconds RetCode: 0 Status: OK