Package: transcriptR Version: 1.36.0 Command: /Library/Frameworks/R.framework/Resources/bin/R CMD build --keep-empty-dirs --no-resave-data transcriptR StartedAt: 2025-09-29 23:19:42 -0400 (Mon, 29 Sep 2025) EndedAt: 2025-09-29 23:22:49 -0400 (Mon, 29 Sep 2025) EllapsedTime: 187.4 seconds RetCode: 0 Status: OK PackageFile: transcriptR_1.36.0.tar.gz PackageFileSize: 3.571 MiB