Package: tradeSeq Version: 1.24.0 Command: /home/biocbuild/bbs-3.22-bioc/R/bin/R CMD build --keep-empty-dirs --no-resave-data --md5 tradeSeq StartedAt: 2025-11-13 20:41:30 -0500 (Thu, 13 Nov 2025) EndedAt: 2025-11-13 20:48:14 -0500 (Thu, 13 Nov 2025) EllapsedTime: 404.4 seconds RetCode: 0 Status: OK PackageFile: tradeSeq_1.24.0.tar.gz PackageFileSize: 5.164 MiB