Package: tracktables Version: 1.44.0 Command: /home/biocbuild/bbs-3.22-bioc/R/bin/R CMD build --keep-empty-dirs --no-resave-data --md5 tracktables StartedAt: 2025-11-11 20:43:08 -0500 (Tue, 11 Nov 2025) EndedAt: 2025-11-11 20:43:29 -0500 (Tue, 11 Nov 2025) EllapsedTime: 21.0 seconds RetCode: 0 Status: OK PackageFile: tracktables_1.44.0.tar.gz PackageFileSize: 356.6 KiB