Package: tracktables Version: 1.44.0 Command: /Library/Frameworks/R.framework/Resources/bin/R CMD build --keep-empty-dirs --no-resave-data tracktables StartedAt: 2025-11-03 19:07:15 -0500 (Mon, 03 Nov 2025) EndedAt: 2025-11-03 19:07:45 -0500 (Mon, 03 Nov 2025) EllapsedTime: 30.7 seconds RetCode: 0 Status: OK PackageFile: tracktables_1.44.0.tar.gz PackageFileSize: 355.5 KiB