Package: tracktables Version: 1.44.0 Command: rm -rf tracktables.buildbin-libdir && mkdir tracktables.buildbin-libdir && /Users/biocbuild/BBS/utils/build-universal.sh tracktables_1.44.0.tar.gz /Library/Frameworks/R.framework/Resources/bin/R tracktables.buildbin-libdir StartedAt: 2025-11-04 02:09:12 -0500 (Tue, 04 Nov 2025) EndedAt: 2025-11-04 02:09:34 -0500 (Tue, 04 Nov 2025) EllapsedTime: 21.9 seconds RetCode: 0 Status: OK PackageFile: tracktables_1.44.0.tgz PackageFileSize: 403.3 KiB