Package: trackViewer Version: 1.46.0 Command: /home/biocbuild/bbs-3.22-bioc/R/bin/R CMD check --install=check:trackViewer.install-out.txt --library=/home/biocbuild/bbs-3.22-bioc/R/site-library --timings trackViewer_1.46.0.tar.gz StartedAt: 2025-11-12 05:04:53 -0500 (Wed, 12 Nov 2025) EndedAt: 2025-11-12 05:26:34 -0500 (Wed, 12 Nov 2025) EllapsedTime: 1301.3 seconds RetCode: 0 Status: OK CheckDir: trackViewer.Rcheck Warnings: 0