Package: trackViewer Version: 1.44.0 Command: /home/biocbuild/bbs-3.21-bioc/R/bin/R CMD INSTALL trackViewer StartedAt: 2025-09-28 16:02:14 -0400 (Sun, 28 Sep 2025) EndedAt: 2025-09-28 16:03:16 -0400 (Sun, 28 Sep 2025) EllapsedTime: 61.1 seconds RetCode: 0 Status: OK