Package: trackViewer Version: 1.44.0 Command: /home/biocbuild/bbs-3.21-bioc/R/bin/R CMD build --keep-empty-dirs --no-resave-data trackViewer StartedAt: 2025-09-28 20:33:46 -0400 (Sun, 28 Sep 2025) EndedAt: 2025-09-28 20:44:18 -0400 (Sun, 28 Sep 2025) EllapsedTime: 631.6 seconds RetCode: 0 Status: OK PackageFile: trackViewer_1.44.0.tar.gz PackageFileSize: 10.37 MiB