Package: trackViewer Version: 1.44.0 Command: /Library/Frameworks/R.framework/Resources/bin/R CMD INSTALL trackViewer StartedAt: 2025-10-13 16:23:53 -0400 (Mon, 13 Oct 2025) EndedAt: 2025-10-13 16:26:01 -0400 (Mon, 13 Oct 2025) EllapsedTime: 127.8 seconds RetCode: 0 Status: OK